BEGIN:VCALENDAR
VERSION:2.0
PRODID:-//A Place for Spiritual Growth and Renewal  - ECPv6.0.3.1//NONSGML v1.0//EN
CALSCALE:GREGORIAN
METHOD:PUBLISH
X-WR-CALNAME:A Place for Spiritual Growth and Renewal 
X-ORIGINAL-URL:http://feyhillfarm.com
X-WR-CALDESC:Events for A Place for Spiritual Growth and Renewal 
REFRESH-INTERVAL;VALUE=DURATION:PT1H
X-Robots-Tag:noindex
X-PUBLISHED-TTL:PT1H
BEGIN:VTIMEZONE
TZID:UTC
BEGIN:STANDARD
TZOFFSETFROM:+0000
TZOFFSETTO:+0000
TZNAME:UTC
DTSTART:20220101T000000
END:STANDARD
END:VTIMEZONE
BEGIN:VEVENT
DTSTART;TZID=UTC:20221001T080000
DTEND;TZID=UTC:20221001T120000
DTSTAMP:20260424T115027
CREATED:20220626T194842Z
LAST-MODIFIED:20220626T194842Z
UID:289-1664611200-1664625600@feyhillfarm.com
SUMMARY:Wee Goat Friday
DESCRIPTION:The first Friday of each month the Comfort Public Library brings their Wee Friday program to Fey Hill Farm.
URL:http://feyhillfarm.com/event/wee-goat-friday-3/
LOCATION:Fey Hill Farm
ATTACH;FMTTYPE=image/jpeg:http://feyhillfarm.com/wp-content/uploads/2022/06/goats2-1.jpg
END:VEVENT
BEGIN:VEVENT
DTSTART;TZID=UTC:20221008T100000
DTEND;TZID=UTC:20221008T140000
DTSTAMP:20260424T115027
CREATED:20220714T155021Z
LAST-MODIFIED:20220714T155705Z
UID:327-1665223200-1665237600@feyhillfarm.com
SUMMARY:Blessing of the Animals
DESCRIPTION:Please join Fey Hill Farm and the Comfort Ministerial Alliance for a special Blessing of the Animals from 10 am until 2 pm\, Saturday\, October 8th\n \nBring your dogs\, cats\, snakes\, goldfish\, horses or goats\, sheep or any of God’s creation for a special blessing and thanksgiving for the relationship of you and your pet. \nRev. Barbara Dyke\, Gaddis UMC\, Vicar Katie Rode-Evans\, Immanuel Lutheran Church\, Rev. John Music\, Comfort Baptist Church\, Rev. David Guthrie\, Fey Hill Farm Retreat Center of the Comfort Ministerial Alliance will be there to bless you and your pets. \nCome spend the day with us and enjoy free Hot dogs\, chips and drinks\, Pet Crafters and other related vendors will be showing their products and there will be water stations available for your pets. \nEnjoy a relaxing day on Fey Hill playing with the goats and exploring our trails with your best friend. For more information call us at 210 771-9664 or visit us on our website www.feyhillfarm.com or Fey Hill Farm on Face Book.
URL:http://feyhillfarm.com/event/blessing-of-the-animals/
LOCATION:Fey Hill Farm
ATTACH;FMTTYPE=image/jpeg:http://feyhillfarm.com/wp-content/uploads/2022/07/duck.jpg
END:VEVENT
END:VCALENDAR